BEGIN:VCALENDAR
VERSION:2.0
PRODID:-//Sabre//Sabre VObject 4.5.8//EN
CALSCALE:GREGORIAN
BEGIN:VEVENT
UID:sabre-vobject-cb7a52e6-3bbf-4395-92ae-416604693433
DTSTAMP:20260424T025905Z
SUMMARY:Trunk-or-Treat
DESCRIPTION:Let the ghoul times roll\, right from the car!&nbsp\;\n
X-ALT-DESC:FMTTYPE=text/html:<!DOCTYPE HTML PUBLIC "-//W3C//DTD HTML 3.2//E
 N"><HTML><p>Let the ghoul times roll\, right from the car!&nbsp\;</p>\n</H
 TML>
CREATED;TZID=America/New_York:20251016T105525
URL;VALUE=URI:https://aphill.armymwr.com/calendar/event
DTSTART;TZID=America/New_York:20251030T170000
DTEND;TZID=America/New_York:20251030T190000
SEQUENCE:0
END:VEVENT
END:VCALENDAR
