BEGIN:VCALENDAR
VERSION:2.0
PRODID:-//Sabre//Sabre VObject 4.5.8//EN
CALSCALE:GREGORIAN
BEGIN:VEVENT
UID:sabre-vobject-1655f7fb-b0dd-4594-a0af-be5719c1acbf
DTSTAMP:20260420T102526Z
SUMMARY:Summer Protein Smoothie Day
DESCRIPTION:Fresh Smoothies. Summer Vibes.&nbsp\;\n
X-ALT-DESC:FMTTYPE=text/html:<!DOCTYPE HTML PUBLIC "-//W3C//DTD HTML 3.2//E
 N"><HTML><p>Fresh Smoothies. Summer Vibes.&nbsp\;</p>\n</HTML>
CREATED;TZID=America/New_York:20260408T135132
URL;VALUE=URI:https://aphill.armymwr.com/calendar/event
DTSTART;TZID=America/New_York:20260806T090000
DTEND;TZID=America/New_York:20260806T130000
SEQUENCE:0
END:VEVENT
END:VCALENDAR
