BEGIN:VCALENDAR
VERSION:2.0
PRODID:-//Sabre//Sabre VObject 4.5.8//EN
CALSCALE:GREGORIAN
BEGIN:VEVENT
UID:sabre-vobject-2172be83-60db-4616-9d69-6f431e6f3470
DTSTAMP:20260419T131504Z
SUMMARY:Lighten Up Weight Loss Challenge
DESCRIPTION:Weight Loss Challenge
X-ALT-DESC:FMTTYPE=text/html:<!DOCTYPE HTML PUBLIC "-//W3C//DTD HTML 3.2//E
 N"><HTML>Weight Loss Challenge</HTML>
CREATED;TZID=America/New_York:20170913T134305
URL;VALUE=URI:https://aphill.armymwr.com/calendar/event
DTSTART;TZID=America/New_York:20170119T000000
DTEND;TZID=America/New_York:20170119T000000
SEQUENCE:0
END:VEVENT
END:VCALENDAR
