BEGIN:VCALENDAR
VERSION:2.0
PRODID:-//Sabre//Sabre VObject 4.5.8//EN
CALSCALE:GREGORIAN
BEGIN:VEVENT
UID:sabre-vobject-16a3be5e-7d88-4f77-8e3f-3ac4fc7bd722
DTSTAMP:20260423T184250Z
SUMMARY:Ice Cream and Kayaking Social
DESCRIPTION:Come indulge your sweet tooth and enjoy the great outdoors!\n
X-ALT-DESC:FMTTYPE=text/html:<!DOCTYPE HTML PUBLIC "-//W3C//DTD HTML 3.2//E
 N"><HTML><p>Come indulge your sweet tooth and enjoy the great outdoors!</p
 >\n</HTML>
CREATED;TZID=America/New_York:20240611T102409
URL;VALUE=URI:https://aphill.armymwr.com/calendar/event
DTSTART;TZID=America/New_York:20240710T113000
DTEND;TZID=America/New_York:20240710T130000
SEQUENCE:0
END:VEVENT
END:VCALENDAR
